BEGIN:VCALENDAR
VERSION:2.0
PRODID:-//www.ketchikanarts.org//NONSGML kigkonsult.se iCalcreator 2.30.10/
 /
CALSCALE:GREGORIAN
METHOD:PUBLISH
UID:6935d999-f0af-41da-8c45-f53f5a26314e
X-WR-CALDESC:
X-WR-RELCALID:4e6995df7e9a2e58c94d48e6921ed749
X-WR-TIMEZONE:America/Anchorage
BEGIN:VTIMEZONE
TZID:America/Anchorage
BEGIN:STANDARD
TZNAME:AKST
DTSTART:20241103T020000
TZOFFSETFROM:-0800
TZOFFSETTO:-0900
RDATE:20251102T020000
END:STANDARD
BEGIN:DAYLIGHT
TZNAME:AKDT
DTSTART:20250309T020000
TZOFFSETFROM:-0900
TZOFFSETTO:-0800
RDATE:20260308T020000
END:DAYLIGHT
END:VTIMEZONE
BEGIN:VEVENT
UID:7c0aacda-4d0b-4fec-809c-0b3a24330876
DTSTAMP:20260424T120011Z
DESCRIPTION:
DTSTART;TZID=America/Anchorage:20250501T180000
DTEND;TZID=America/Anchorage:20250501T200000
LOCATION:Alaska Fish House
SUMMARY:Sea Shanties with Greg Thomas and Friends
END:VEVENT
END:VCALENDAR
