BEGIN:VCALENDAR
VERSION:2.0
PRODID:-//www.ketchikanarts.org//NONSGML kigkonsult.se iCalcreator 2.30.10/
 /
CALSCALE:GREGORIAN
METHOD:PUBLISH
UID:6627cea0-2242-47eb-942f-31270c40cd72
X-WR-CALDESC:Jessica Michelle Singleton is a powerhouse of comedy in a teen
 y tiny package - known for her high energy\, overly honest\, always silly\
 , and often dark & dirty performances. She skyrocketed to comedic success 
 after being noticed by comedy giants like Bobby Lee and Tony Hinchcliffe a
 t The World Famous Comedy Store. \nShe is the breakout star of ILIZA’S LOC
 ALS (Hulu)\, a comedy special series produced by Iliza Shlesinger. Her Don
 ’t Tell Comedy performance(s) have amassed millions of views online across
  multiple platforms. Singleton’s second comedy album debuted at #1 on iTun
 es and Amazon\, ahead of Bo Burnham\, and onto the FYC Grammy list\, makin
 g it her second #1 comedy album. \n\nSingleton has toured across 4 contine
 nts alongside names like: Melissa Villasenor\, Theo Von\, Mark Normand\, a
 nd Ari Shaffir.\n
X-WR-RELCALID:64676bc297dc84e698f1c6fe19121585
X-WR-TIMEZONE:America/Anchorage
BEGIN:VTIMEZONE
TZID:America/Anchorage
BEGIN:STANDARD
TZNAME:AKST
DTSTART:20241103T020000
TZOFFSETFROM:-0800
TZOFFSETTO:-0900
RDATE:20251102T020000
END:STANDARD
BEGIN:DAYLIGHT
TZNAME:AKDT
DTSTART:20250309T020000
TZOFFSETFROM:-0900
TZOFFSETTO:-0800
RDATE:20260308T020000
END:DAYLIGHT
END:VTIMEZONE
BEGIN:VEVENT
UID:4cdf1663-0274-462c-9531-0a6aa56d63a0
DTSTAMP:20260424T130440Z
DESCRIPTION:Jessica Michelle Singleton is a powerhouse of comedy in a teeny
  tiny package - known for her high energy\, overly honest\, always silly\,
  and often dark & dirty performances. She skyrocketed to comedic success a
 fter being noticed by comedy giants like Bobby Lee and Tony Hinchcliffe at
  The World Famous Comedy Store. \nShe is the breakout star of ILIZA’S LOCA
 LS (Hulu)\, a comedy special series produced by Iliza Shlesinger. Her Don’
 t Tell Comedy performance(s) have amassed millions of views online across 
 multiple platforms. Singleton’s second comedy album debuted at #1 on iTune
 s and Amazon\, ahead of Bo Burnham\, and onto the FYC Grammy list\, making
  it her second #1 comedy album. \n\nSingleton has toured across 4 continen
 ts alongside names like: Melissa Villasenor\, Theo Von\, Mark Normand\, an
 d Ari Shaffir.\n
DTSTART;TZID=America/Anchorage:20250425T190000
DTEND;TZID=America/Anchorage:20250425T210000
LOCATION:Cape Fox Lodge\, 800 Venetia Ave\, Ketchikan\, AK 99901
SUMMARY:Jessica Michelle Singleton - Comedy Night
END:VEVENT
END:VCALENDAR
