BEGIN:VCALENDAR
VERSION:2.0
PRODID:-//www.ketchikanarts.org//NONSGML kigkonsult.se iCalcreator 2.30.10/
 /
CALSCALE:GREGORIAN
METHOD:PUBLISH
UID:6e4c15a7-cd7c-4de2-a733-b0649e3b8ab6
X-WR-CALDESC:Don't miss First City Players multi generational production of
  Alice in Wonderland!
X-WR-RELCALID:99c92c075ee3ff2f36f30514c0f11dcc
X-WR-TIMEZONE:America/Anchorage
BEGIN:VTIMEZONE
TZID:America/Anchorage
BEGIN:STANDARD
TZNAME:AKST
DTSTART:20241103T020000
TZOFFSETFROM:-0800
TZOFFSETTO:-0900
RDATE:20251102T020000
END:STANDARD
BEGIN:DAYLIGHT
TZNAME:AKDT
DTSTART:20250309T020000
TZOFFSETFROM:-0900
TZOFFSETTO:-0800
RDATE:20260308T020000
END:DAYLIGHT
END:VTIMEZONE
BEGIN:VEVENT
UID:04815b3f-d91b-4108-9e7f-6bfacc08b845
DTSTAMP:20260424T131801Z
DESCRIPTION:Don't miss First City Players multi generational production of 
 Alice in Wonderland!
DTSTART;TZID=America/Anchorage:20250425T193000
DTEND;TZID=America/Anchorage:20250425T210000
LOCATION:Kayhi Auditorium
SUMMARY:'Alice in Wonderland' - produced by First City Players
END:VEVENT
END:VCALENDAR
