BEGIN:VCALENDAR
VERSION:2.0
PRODID:-//www.ketchikanarts.org//NONSGML kigkonsult.se iCalcreator 2.30.10/
 /
CALSCALE:GREGORIAN
METHOD:PUBLISH
UID:02b48b11-1440-4c86-975a-3478afc55c42
X-WR-CALDESC:First City Toastmasters welcomes all who want to improve their
  confidence in speaking to a group of 2 or 200. Perfect for mastering arti
 st talks!\nEvery Tuesday!\n6:45 - 7:45 am. In-person on the lower level of
  the Presbyterian Church or by ZOOM.
X-WR-RELCALID:b6a794d259b3033e796a7029b85c387e
X-WR-TIMEZONE:America/Anchorage
BEGIN:VTIMEZONE
TZID:America/Anchorage
BEGIN:STANDARD
TZNAME:AKST
DTSTART:20241103T020000
TZOFFSETFROM:-0800
TZOFFSETTO:-0900
RDATE:20251102T020000
END:STANDARD
BEGIN:DAYLIGHT
TZNAME:AKDT
DTSTART:20250309T020000
TZOFFSETFROM:-0900
TZOFFSETTO:-0800
RDATE:20260308T020000
END:DAYLIGHT
END:VTIMEZONE
BEGIN:VEVENT
UID:8c9d4387-898a-4534-b16f-de3075682138
DTSTAMP:20260424T131357Z
DESCRIPTION:First City Toastmasters welcomes all who want to improve their 
 confidence in speaking to a group of 2 or 200. Perfect for mastering artis
 t talks!\nEvery Tuesday!\n6:45 - 7:45 am. In-person on the lower level of 
 the Presbyterian Church or by ZOOM.
DTSTART;TZID=America/Anchorage:20250422T064500
DTEND;TZID=America/Anchorage:20250422T074500
LOCATION:
SUMMARY:First City Toastmasters Club
END:VEVENT
END:VCALENDAR
