BEGIN:VCALENDAR
VERSION:2.0
PRODID:-//www.ketchikanarts.org//NONSGML kigkonsult.se iCalcreator 2.30.10/
 /
CALSCALE:GREGORIAN
METHOD:PUBLISH
UID:7d65ef68-7476-4d68-ac89-59effa251bc2
X-WR-CALDESC:A fabulous night will be had by all!
X-WR-RELCALID:0de08aeab6b06a81901e3568bba90955
X-WR-TIMEZONE:America/Anchorage
BEGIN:VTIMEZONE
TZID:America/Anchorage
BEGIN:STANDARD
TZNAME:AKST
DTSTART:20241103T020000
TZOFFSETFROM:-0800
TZOFFSETTO:-0900
RDATE:20251102T020000
END:STANDARD
BEGIN:DAYLIGHT
TZNAME:AKDT
DTSTART:20250309T020000
TZOFFSETFROM:-0900
TZOFFSETTO:-0800
RDATE:20260308T020000
END:DAYLIGHT
END:VTIMEZONE
BEGIN:VEVENT
UID:f44934d0-a2e7-4d5e-bcb3-82e9d3571364
DTSTAMP:20260424T130425Z
DESCRIPTION:A fabulous night will be had by all!
DTSTART;TZID=America/Anchorage:20250420T170000
DTEND;TZID=America/Anchorage:20250420T200000
LOCATION:Creek Street Cabaret
SUMMARY:Open Mic!
END:VEVENT
END:VCALENDAR
