BEGIN:VCALENDAR
VERSION:2.0
PRODID:-//www.ketchikanarts.org//NONSGML kigkonsult.se iCalcreator 2.30.10/
 /
CALSCALE:GREGORIAN
METHOD:PUBLISH
UID:16f23500-b405-4473-a987-47273f0b05d2
X-WR-CALDESC:
X-WR-RELCALID:f5d085a2365801fd8acbce9964fb969d
X-WR-TIMEZONE:America/Anchorage
BEGIN:VTIMEZONE
TZID:America/Anchorage
BEGIN:STANDARD
TZNAME:AKST
DTSTART:20241103T020000
TZOFFSETFROM:-0800
TZOFFSETTO:-0900
RDATE:20251102T020000
END:STANDARD
BEGIN:DAYLIGHT
TZNAME:AKDT
DTSTART:20250309T020000
TZOFFSETFROM:-0900
TZOFFSETTO:-0800
RDATE:20260308T020000
END:DAYLIGHT
END:VTIMEZONE
BEGIN:VEVENT
UID:6d0e9c68-4ced-4cc7-b5c2-3a5a1d629bc8
DTSTAMP:20260424T130255Z
DESCRIPTION:
DTSTART;TZID=America/Anchorage:20250419T100000
DTEND;TZID=America/Anchorage:20250419T140000
LOCATION:Richard Shields Sr. Building\, downstairs
SUMMARY:Open Workshop - Cape Fox Cultural Foundation
END:VEVENT
END:VCALENDAR
