BEGIN:VCALENDAR
VERSION:2.0
PRODID:-//www.ketchikanarts.org//NONSGML kigkonsult.se iCalcreator 2.30.10/
 /
CALSCALE:GREGORIAN
METHOD:PUBLISH
UID:b2c61521-86c5-4634-935d-433412844049
X-WR-CALDESC:$3 at the door - all dance are taught - live music by the Free
  Radicals
X-WR-RELCALID:2c1be4ec0a53dc099b833751841f57c6
X-WR-TIMEZONE:America/Anchorage
BEGIN:VTIMEZONE
TZID:America/Anchorage
BEGIN:STANDARD
TZNAME:AKST
DTSTART:20241103T020000
TZOFFSETFROM:-0800
TZOFFSETTO:-0900
RDATE:20251102T020000
END:STANDARD
BEGIN:DAYLIGHT
TZNAME:AKDT
DTSTART:20250309T020000
TZOFFSETFROM:-0900
TZOFFSETTO:-0800
RDATE:20260308T020000
END:DAYLIGHT
END:VTIMEZONE
BEGIN:VEVENT
UID:822c23d4-c76e-4de2-8cff-cfd5874e6c4b
DTSTAMP:20260424T130257Z
DESCRIPTION:$3 at the door - all dance are taught - live music by the Free 
 Radicals
DTSTART;TZID=America/Anchorage:20250418T190000
DTEND;TZID=America/Anchorage:20250418T210000
LOCATION:Creek Street Cabaret
SUMMARY:Square Dancing!!!
END:VEVENT
END:VCALENDAR
