BEGIN:VCALENDAR
VERSION:2.0
PRODID:-//www.ketchikanarts.org//NONSGML kigkonsult.se iCalcreator 2.30.10/
 /
CALSCALE:GREGORIAN
METHOD:PUBLISH
UID:533d9fbd-6b30-4f42-95b6-5d619ead7152
X-WR-CALDESC:
X-WR-RELCALID:325f1e49923b7bff473a0855c497140e
X-WR-TIMEZONE:America/Anchorage
BEGIN:VTIMEZONE
TZID:America/Anchorage
BEGIN:STANDARD
TZNAME:AKST
DTSTART:20241103T020000
TZOFFSETFROM:-0800
TZOFFSETTO:-0900
RDATE:20251102T020000
END:STANDARD
BEGIN:DAYLIGHT
TZNAME:AKDT
DTSTART:20250309T020000
TZOFFSETFROM:-0900
TZOFFSETTO:-0800
RDATE:20260308T020000
END:DAYLIGHT
END:VTIMEZONE
BEGIN:VEVENT
UID:4802582d-fe60-4d07-9acc-9327bdaf008a
DTSTAMP:20260424T130254Z
DESCRIPTION:
DTSTART;TZID=America/Anchorage:20250413T150000
DTEND;TZID=America/Anchorage:20250413T170000
LOCATION:Ketchikan Public Library
SUMMARY:Ray Troll at the Library
END:VEVENT
END:VCALENDAR
