BEGIN:VCALENDAR
VERSION:2.0
PRODID:-//www.ketchikanarts.org//NONSGML kigkonsult.se iCalcreator 2.30.10/
 /
CALSCALE:GREGORIAN
METHOD:PUBLISH
UID:194a8500-cb86-4b4d-80ba-594e3883d69e
X-WR-CALDESC:Join the Ketchikan Community Concert Band in their performance
  'Canzona'!  Purcahse tickets from the link below!
X-WR-RELCALID:5f1f30a97146012634a3a217f82357e0
X-WR-TIMEZONE:America/Anchorage
BEGIN:VTIMEZONE
TZID:America/Anchorage
BEGIN:STANDARD
TZNAME:AKST
DTSTART:20241103T020000
TZOFFSETFROM:-0800
TZOFFSETTO:-0900
RDATE:20251102T020000
END:STANDARD
BEGIN:DAYLIGHT
TZNAME:AKDT
DTSTART:20250309T020000
TZOFFSETFROM:-0900
TZOFFSETTO:-0800
RDATE:20260308T020000
END:DAYLIGHT
END:VTIMEZONE
BEGIN:VEVENT
UID:a35c8795-5c7c-4d53-a484-69809ae808b5
DTSTAMP:20260424T130732Z
DESCRIPTION:Join the Ketchikan Community Concert Band in their performance 
 'Canzona'!  Purcahse tickets from the link below!
DTSTART;TZID=America/Anchorage:20250413T150000
DTEND;TZID=America/Anchorage:20250413T163000
LOCATION:Kayhi Auditorium
SUMMARY:Ketchikan Community Concert Band Spring Performance
END:VEVENT
END:VCALENDAR
