BEGIN:VCALENDAR
VERSION:2.0
PRODID:-//www.ketchikanarts.org//NONSGML kigkonsult.se iCalcreator 2.30.10/
 /
CALSCALE:GREGORIAN
METHOD:PUBLISH
UID:5e27ded5-6d86-4868-8523-bf344a0aa6a9
X-WR-CALDESC:Join Rob Holston for an entertaining 45-minute collision of co
 ntradictory yet collaborative evidence surrounding Bigfoot. Featuring publ
 ications by Dr. Rob Alley\, Dr. Matt Johnson & Dr. Jeff Meldrum. Fascinati
 ng IM Index evidence exposed. Bigfoot DNA controversy explained. Plus\, lo
 cals with Bigfoot encounters will be invited to share and enjoy a Q&A sess
 ion.
X-WR-RELCALID:fff534ccae2382edf1f500ee66dc4b94
X-WR-TIMEZONE:America/Anchorage
BEGIN:VTIMEZONE
TZID:America/Anchorage
BEGIN:STANDARD
TZNAME:AKST
DTSTART:20241103T020000
TZOFFSETFROM:-0800
TZOFFSETTO:-0900
RDATE:20251102T020000
END:STANDARD
BEGIN:DAYLIGHT
TZNAME:AKDT
DTSTART:20250309T020000
TZOFFSETFROM:-0900
TZOFFSETTO:-0800
RDATE:20260308T020000
END:DAYLIGHT
END:VTIMEZONE
BEGIN:VEVENT
UID:40351304-313a-4f05-905f-8ba17ee9907a
DTSTAMP:20260424T131413Z
DESCRIPTION:Join Rob Holston for an entertaining 45-minute collision of con
 tradictory yet collaborative evidence surrounding Bigfoot. Featuring publi
 cations by Dr. Rob Alley\, Dr. Matt Johnson & Dr. Jeff Meldrum. Fascinatin
 g IM Index evidence exposed. Bigfoot DNA controversy explained. Plus\, loc
 als with Bigfoot encounters will be invited to share and enjoy a Q&A sessi
 on.
DTSTART;TZID=America/Anchorage:20250411T180000
DTEND;TZID=America/Anchorage:20250411T190000
LOCATION:Southeast Alaska Discovery Center - 50 Main Street
SUMMARY:Friday Night Insights - 'Sasquarch: Legends & Myths Meet Science' -
  presented by Rob Holston
END:VEVENT
END:VCALENDAR
