BEGIN:VCALENDAR
VERSION:2.0
PRODID:-//www.ketchikanarts.org//NONSGML kigkonsult.se iCalcreator 2.30.10/
 /
CALSCALE:GREGORIAN
METHOD:PUBLISH
UID:4f49e074-fc1b-4a70-bdd6-c9c1f5754c49
X-WR-CALDESC:Ranger Nicole will share tips and ideas for observing birds in
  nature! All ages are welcome.
X-WR-RELCALID:c20ecb10d78e32ff07d0a5f852e6e4bc
X-WR-TIMEZONE:America/Anchorage
BEGIN:VTIMEZONE
TZID:America/Anchorage
BEGIN:STANDARD
TZNAME:AKST
DTSTART:20241103T020000
TZOFFSETFROM:-0800
TZOFFSETTO:-0900
RDATE:20251102T020000
END:STANDARD
BEGIN:DAYLIGHT
TZNAME:AKDT
DTSTART:20250309T020000
TZOFFSETFROM:-0900
TZOFFSETTO:-0800
RDATE:20260308T020000
END:DAYLIGHT
END:VTIMEZONE
BEGIN:VEVENT
UID:6111881a-c880-4f0a-a9b9-aedd02d18133
DTSTAMP:20260424T131531Z
DESCRIPTION:Ranger Nicole will share tips and ideas for observing birds in 
 nature! All ages are welcome.
DTSTART;TZID=America/Anchorage:20250411T170000
DTEND;TZID=America/Anchorage:20250411T180000
LOCATION:Southeast Alaska Discovery Center
SUMMARY:Alaska Hummingbird Festival - Birding 101
END:VEVENT
END:VCALENDAR
