BEGIN:VCALENDAR
VERSION:2.0
PRODID:-//www.ketchikanarts.org//NONSGML kigkonsult.se iCalcreator 2.30.10/
 /
CALSCALE:GREGORIAN
METHOD:PUBLISH
UID:88f87bf9-3bbb-4575-9c9d-ba130316b270
X-WR-CALDESC:BOOMbal Dance Hall in March!!!\n\nMore information to come soo
 n!!!!
X-WR-RELCALID:54346f01498eece12a30b80580177633
X-WR-TIMEZONE:America/Anchorage
BEGIN:VTIMEZONE
TZID:America/Anchorage
BEGIN:STANDARD
TZNAME:AKST
DTSTART:20241103T020000
TZOFFSETFROM:-0800
TZOFFSETTO:-0900
RDATE:20251102T020000
END:STANDARD
BEGIN:DAYLIGHT
TZNAME:AKDT
DTSTART:20250309T020000
TZOFFSETFROM:-0900
TZOFFSETTO:-0800
RDATE:20260308T020000
END:DAYLIGHT
END:VTIMEZONE
BEGIN:VEVENT
UID:03d63e22-e94c-46cd-ade1-7c745227a697
DTSTAMP:20260424T130903Z
DESCRIPTION:BOOMbal Dance Hall in March!!!\n\nMore information to come soon
 !!!!
DTSTART;TZID=America/Anchorage:20250407T175000
DTEND;TZID=America/Anchorage:20250407T193000
LOCATION:Main Street Gallery
SUMMARY:BOOMbal Dance Hall - RESCHEDULED
END:VEVENT
END:VCALENDAR
