BEGIN:VCALENDAR
VERSION:2.0
PRODID:-//www.ketchikanarts.org//NONSGML kigkonsult.se iCalcreator 2.30.10/
 /
CALSCALE:GREGORIAN
METHOD:PUBLISH
UID:e2b7790d-8f54-4b6e-914d-0c3ba38c0374
X-WR-CALDESC:Scratchboard Workshop • Main Street Gallery \n\nSaturday\, Apr
 il 5th\, 1:00 - 3:00 pm\n\nArtist Jamie-Lee Mitchell teaches techniques us
 ed in creating scratchboard art\, with an opportunity to create your own! 
 All ages are welcome\, youth must be accompanied by an adult.
X-WR-RELCALID:9116de69f473a3d07d56fe326cd565f5
X-WR-TIMEZONE:America/Anchorage
BEGIN:VTIMEZONE
TZID:America/Anchorage
BEGIN:STANDARD
TZNAME:AKST
DTSTART:20241103T020000
TZOFFSETFROM:-0800
TZOFFSETTO:-0900
RDATE:20251102T020000
END:STANDARD
BEGIN:DAYLIGHT
TZNAME:AKDT
DTSTART:20250309T020000
TZOFFSETFROM:-0900
TZOFFSETTO:-0800
RDATE:20260308T020000
END:DAYLIGHT
END:VTIMEZONE
BEGIN:VEVENT
UID:de066053-3c3f-425b-bf47-d1d0140fff3c
DTSTAMP:20260424T130254Z
DESCRIPTION:Scratchboard Workshop • Main Street Gallery \n\nSaturday\, Apri
 l 5th\, 1:00 - 3:00 pm\n\nArtist Jamie-Lee Mitchell teaches techniques use
 d in creating scratchboard art\, with an opportunity to create your own! A
 ll ages are welcome\, youth must be accompanied by an adult.
DTSTART;TZID=America/Anchorage:20250405T130000
DTEND;TZID=America/Anchorage:20250405T150000
LOCATION:330 Main Street\, Ketchikan\, AK 99901 US
SUMMARY:Scratchboard Workshop with Jamie-Lee Mitchell
END:VEVENT
END:VCALENDAR
