BEGIN:VCALENDAR
VERSION:2.0
PRODID:-//www.ketchikanarts.org//NONSGML kigkonsult.se iCalcreator 2.30.10/
 /
CALSCALE:GREGORIAN
METHOD:PUBLISH
UID:1ec78a88-12a0-42f5-90c4-27940a34ae05
X-WR-CALDESC:Bring your ukulele and have some fun playing with the group.\n
 Meets on Thursdays at 3:00pm at the Bayside Hotel!
X-WR-RELCALID:85d4ba50dde8b223fd378267faa7cb7f
X-WR-TIMEZONE:America/Anchorage
BEGIN:VTIMEZONE
TZID:America/Anchorage
BEGIN:STANDARD
TZNAME:AKST
DTSTART:20241103T020000
TZOFFSETFROM:-0800
TZOFFSETTO:-0900
RDATE:20251102T020000
END:STANDARD
BEGIN:DAYLIGHT
TZNAME:AKDT
DTSTART:20250309T020000
TZOFFSETFROM:-0900
TZOFFSETTO:-0800
RDATE:20260308T020000
END:DAYLIGHT
END:VTIMEZONE
BEGIN:VEVENT
UID:3fac17d9-9654-4729-bd47-25f7ef4daa2d
DTSTAMP:20260424T130542Z
DESCRIPTION:Bring your ukulele and have some fun playing with the group.\nM
 eets on Thursdays at 3:00pm at the Bayside Hotel!
DTSTART;TZID=America/Anchorage:20250403T150000
DTEND;TZID=America/Anchorage:20250403T170000
LOCATION:Bayside Hotel Lobby
SUMMARY:The Ukelele Group
END:VEVENT
END:VCALENDAR
