BEGIN:VCALENDAR
VERSION:2.0
PRODID:-//www.ketchikanarts.org//NONSGML kigkonsult.se iCalcreator 2.30.10/
 /
CALSCALE:GREGORIAN
METHOD:PUBLISH
UID:5b57583c-c65a-456c-85a4-c7c28f388379
X-WR-CALDESC:The Ketchikan Chamber Orchestra rehearses for the Spring 2025 
 performance!!!!
X-WR-RELCALID:39c0e32488db5a753e90939801fd0dc0
X-WR-TIMEZONE:America/Anchorage
BEGIN:VTIMEZONE
TZID:America/Anchorage
BEGIN:STANDARD
TZNAME:AKST
DTSTART:20241103T020000
TZOFFSETFROM:-0800
TZOFFSETTO:-0900
RDATE:20251102T020000
END:STANDARD
BEGIN:DAYLIGHT
TZNAME:AKDT
DTSTART:20250309T020000
TZOFFSETFROM:-0900
TZOFFSETTO:-0800
RDATE:20260308T020000
END:DAYLIGHT
END:VTIMEZONE
BEGIN:VEVENT
UID:3a46fece-d690-44b7-afc3-596e41159339
DTSTAMP:20260424T132010Z
DESCRIPTION:The Ketchikan Chamber Orchestra rehearses for the Spring 2025 p
 erformance!!!!
DTSTART;TZID=America/Anchorage:20250402T180000
DTEND;TZID=America/Anchorage:20250402T200000
LOCATION:First Lutheran Church
SUMMARY:Ketchikan Chamber Orchesta Rehearsal
END:VEVENT
END:VCALENDAR
