BEGIN:VCALENDAR
VERSION:2.0
PRODID:-//www.ketchikanarts.org//NONSGML kigkonsult.se iCalcreator 2.30.10/
 /
CALSCALE:GREGORIAN
METHOD:PUBLISH
UID:fa991bcb-9204-4435-8626-0f537f5f1f97
X-WR-CALDESC:The March 31st BOOMbal has been reschedule to April 7th! All d
 etails remain the same.
X-WR-RELCALID:6cef034368e97711951540707a63e2c7
X-WR-TIMEZONE:America/Anchorage
BEGIN:VTIMEZONE
TZID:America/Anchorage
BEGIN:STANDARD
TZNAME:AKST
DTSTART:20241103T020000
TZOFFSETFROM:-0800
TZOFFSETTO:-0900
RDATE:20251102T020000
END:STANDARD
BEGIN:DAYLIGHT
TZNAME:AKDT
DTSTART:20250309T020000
TZOFFSETFROM:-0900
TZOFFSETTO:-0800
RDATE:20260308T020000
END:DAYLIGHT
END:VTIMEZONE
BEGIN:VEVENT
UID:2f0ce82d-9007-4720-8cfe-60365add2225
DTSTAMP:20260424T143005Z
DESCRIPTION:The March 31st BOOMbal has been reschedule to April 7th! All de
 tails remain the same.
DTSTART;TZID=America/Anchorage:20250331T175000
DTEND;TZID=America/Anchorage:20250331T193000
LOCATION:Main Street Gallery
SUMMARY:BOOMbal Dance Hall has been RESCHEDULED
END:VEVENT
END:VCALENDAR
