BEGIN:VCALENDAR
VERSION:2.0
PRODID:-//www.ketchikanarts.org//NONSGML kigkonsult.se iCalcreator 2.30.10/
 /
CALSCALE:GREGORIAN
METHOD:PUBLISH
UID:b8b0237c-a8ad-4f96-88d1-e6f8122cfada
X-WR-CALDESC:KCCB rehearses for the April 13\, 3pm performance!!
X-WR-RELCALID:d6f5177e3d43cedea0c1ba4add3fc3ac
X-WR-TIMEZONE:America/Anchorage
BEGIN:VTIMEZONE
TZID:America/Anchorage
BEGIN:STANDARD
TZNAME:AKST
DTSTART:20241103T020000
TZOFFSETFROM:-0800
TZOFFSETTO:-0900
RDATE:20251102T020000
END:STANDARD
BEGIN:DAYLIGHT
TZNAME:AKDT
DTSTART:20250309T020000
TZOFFSETFROM:-0900
TZOFFSETTO:-0800
RDATE:20260308T020000
END:DAYLIGHT
END:VTIMEZONE
BEGIN:VEVENT
UID:daf2824f-6952-4d22-95cf-f29f08383228
DTSTAMP:20260424T144745Z
DESCRIPTION:KCCB rehearses for the April 13\, 3pm performance!!
DTSTART;TZID=America/Anchorage:20250331T190000
DTEND;TZID=America/Anchorage:20250331T203000
LOCATION:First Assembly Church of God
SUMMARY:Ketchikan Community Concert Band Rehearsal
END:VEVENT
END:VCALENDAR
