BEGIN:VCALENDAR
VERSION:2.0
PRODID:-//www.ketchikanarts.org//NONSGML kigkonsult.se iCalcreator 2.30.10/
 /
CALSCALE:GREGORIAN
METHOD:PUBLISH
UID:922f1c3d-05c2-4e3c-a5e2-d7032f68b7b1
X-WR-CALDESC:Widely considered a masterpiece\, this timeless classic challe
 nges American ideas of power\, intolerance\, and justice in this partially
 -fictionalized dramatization of the Salem Witch Trials.
X-WR-RELCALID:b3d1d4c31234c52c2d55def6b9a6abe6
X-WR-TIMEZONE:America/Anchorage
BEGIN:VTIMEZONE
TZID:America/Anchorage
BEGIN:STANDARD
TZNAME:AKST
DTSTART:20241103T020000
TZOFFSETFROM:-0800
TZOFFSETTO:-0900
RDATE:20251102T020000
END:STANDARD
BEGIN:DAYLIGHT
TZNAME:AKDT
DTSTART:20250309T020000
TZOFFSETFROM:-0900
TZOFFSETTO:-0800
RDATE:20260308T020000
END:DAYLIGHT
END:VTIMEZONE
BEGIN:VEVENT
UID:cb077dc9-e87f-4b33-8ecb-8e8987c3f6b7
DTSTAMP:20260424T143859Z
DESCRIPTION:Widely considered a masterpiece\, this timeless classic challen
 ges American ideas of power\, intolerance\, and justice in this partially-
 fictionalized dramatization of the Salem Witch Trials.
DTSTART;TZID=America/Anchorage:20250330T143000
DTEND;TZID=America/Anchorage:20250330T160000
LOCATION:Kayhi Auditorium
SUMMARY:'The Crucible' - First City Players NEWLY SCHEDULED
END:VEVENT
END:VCALENDAR
