BEGIN:VCALENDAR
VERSION:2.0
PRODID:-//www.ketchikanarts.org//NONSGML kigkonsult.se iCalcreator 2.30.10/
 /
CALSCALE:GREGORIAN
METHOD:PUBLISH
UID:40c1c7af-3b4c-42ba-b82e-24bcd5895289
X-WR-CALDESC:Classes for grades 1- 12!! Scholarships are available!!!
X-WR-RELCALID:7d44b139bb62d2e12a8abf58be6f86d8
X-WR-TIMEZONE:America/Anchorage
BEGIN:VTIMEZONE
TZID:America/Anchorage
BEGIN:STANDARD
TZNAME:AKST
DTSTART:20241103T020000
TZOFFSETFROM:-0800
TZOFFSETTO:-0900
RDATE:20251102T020000
END:STANDARD
BEGIN:DAYLIGHT
TZNAME:AKDT
DTSTART:20250309T020000
TZOFFSETFROM:-0900
TZOFFSETTO:-0800
RDATE:20260308T020000
END:DAYLIGHT
END:VTIMEZONE
BEGIN:VEVENT
UID:f0c7e59a-90ff-4c68-8d95-948c0850f0a7
DTSTAMP:20260424T142852Z
DESCRIPTION:Classes for grades 1- 12!! Scholarships are available!!!
DTSTART;TZID=America/Anchorage:20250329T120000
DTEND;TZID=America/Anchorage:20250329T153000
LOCATION:First City Players
SUMMARY:Starpath Theatre Classes - First City Players
END:VEVENT
END:VCALENDAR
