BEGIN:VCALENDAR
VERSION:2.0
PRODID:-//www.ketchikanarts.org//NONSGML kigkonsult.se iCalcreator 2.30.10/
 /
CALSCALE:GREGORIAN
METHOD:PUBLISH
UID:b1156314-cfe5-456e-9a57-eca605d89121
X-WR-CALDESC:Date: March 29\, 2025\n? Location: The Plaza Mall\n\nEnjoy tra
 ditional activities plus learn about the Ketchikan-Gero-Kanayama Exchange 
 Program! ?✈️\n\nDon’t miss this chance to celebrate friendship between Ket
 chikan & Japan! Bring your friends and family for a fun\, cultural experie
 nce! ?\n
X-WR-RELCALID:e4d53431f98aa17630d570e002a24e7b
X-WR-TIMEZONE:America/Anchorage
BEGIN:VTIMEZONE
TZID:America/Anchorage
BEGIN:STANDARD
TZNAME:AKST
DTSTART:20241103T020000
TZOFFSETFROM:-0800
TZOFFSETTO:-0900
RDATE:20251102T020000
END:STANDARD
BEGIN:DAYLIGHT
TZNAME:AKDT
DTSTART:20250309T020000
TZOFFSETFROM:-0900
TZOFFSETTO:-0800
RDATE:20260308T020000
END:DAYLIGHT
END:VTIMEZONE
BEGIN:VEVENT
UID:f042878a-8240-4fca-9ac6-36a6ad8d1342
DTSTAMP:20260424T142642Z
DESCRIPTION:Date: March 29\, 2025\n? Location: The Plaza Mall\n\nEnjoy trad
 itional activities plus learn about the Ketchikan-Gero-Kanayama Exchange P
 rogram! ?✈️\n\nDon’t miss this chance to celebrate friendship between Ketc
 hikan & Japan! Bring your friends and family for a fun\, cultural experien
 ce! ?\n
DTSTART;TZID=America/Anchorage:20250328T100000
DTEND;TZID=America/Anchorage:20250328T110000
LOCATION:The Plaza Mall\, 2417 Tongass Ave\, Ketchikan\, AK 99901 US
SUMMARY:Japan Day
END:VEVENT
END:VCALENDAR
