BEGIN:VCALENDAR
VERSION:2.0
PRODID:-//www.ketchikanarts.org//NONSGML kigkonsult.se iCalcreator 2.30.10/
 /
CALSCALE:GREGORIAN
METHOD:PUBLISH
UID:533dafc7-123d-4d13-a4f9-92e6f76a2a96
X-WR-CALDESC:Widely considered a masterpiece\, this timeless classic challe
 nges American ideas of power\, intolerance\, and justice in this partially
 -fictionalized dramatization of the Salem Witch Trials.
X-WR-RELCALID:26ab920a9f2463933a149f41e07a3909
X-WR-TIMEZONE:America/Anchorage
BEGIN:VTIMEZONE
TZID:America/Anchorage
BEGIN:STANDARD
TZNAME:AKST
DTSTART:20241103T020000
TZOFFSETFROM:-0800
TZOFFSETTO:-0900
RDATE:20251102T020000
END:STANDARD
BEGIN:DAYLIGHT
TZNAME:AKDT
DTSTART:20250309T020000
TZOFFSETFROM:-0900
TZOFFSETTO:-0800
RDATE:20260308T020000
END:DAYLIGHT
END:VTIMEZONE
BEGIN:VEVENT
UID:dd3b20bf-4770-45f8-8307-bb59a12055d3
DTSTAMP:20260424T143635Z
DESCRIPTION:Widely considered a masterpiece\, this timeless classic challen
 ges American ideas of power\, intolerance\, and justice in this partially-
 fictionalized dramatization of the Salem Witch Trials.
DTSTART;TZID=America/Anchorage:20250328T193000
DTEND;TZID=America/Anchorage:20250328T213000
LOCATION:Kayhi Auditorium
SUMMARY:'The Crucible' - First City Players
END:VEVENT
END:VCALENDAR
