BEGIN:VCALENDAR
VERSION:2.0
PRODID:-//www.ketchikanarts.org//NONSGML kigkonsult.se iCalcreator 2.30.10/
 /
CALSCALE:GREGORIAN
METHOD:PUBLISH
UID:80bd121a-cf7c-44eb-9dd6-d806d1f0c8fb
X-WR-CALDESC:Widely considered a masterpiece\, this timeless classic challe
 nges American ideas of power\, intolerance\, and justice in this partially
 -fictionalized dramatization of the Salem Witch Trials.
X-WR-RELCALID:a0875f59336209b31bafcb549d656065
X-WR-TIMEZONE:America/Anchorage
BEGIN:VTIMEZONE
TZID:America/Anchorage
BEGIN:STANDARD
TZNAME:AKST
DTSTART:20241103T020000
TZOFFSETFROM:-0800
TZOFFSETTO:-0900
RDATE:20251102T020000
END:STANDARD
BEGIN:DAYLIGHT
TZNAME:AKDT
DTSTART:20250309T020000
TZOFFSETFROM:-0900
TZOFFSETTO:-0800
RDATE:20260308T020000
END:DAYLIGHT
END:VTIMEZONE
BEGIN:VEVENT
UID:2d3466b9-c56c-4e08-980d-a1d07e09a8fd
DTSTAMP:20260424T143924Z
DESCRIPTION:Widely considered a masterpiece\, this timeless classic challen
 ges American ideas of power\, intolerance\, and justice in this partially-
 fictionalized dramatization of the Salem Witch Trials.
DTSTART;TZID=America/Anchorage:20250327T193000
DTEND;TZID=America/Anchorage:20250327T213000
LOCATION:Kayhi Auditorium
SUMMARY:'The Crucible' - First City Players NEWLY SCHEDULED
END:VEVENT
END:VCALENDAR
