BEGIN:VCALENDAR
VERSION:2.0
PRODID:-//www.ketchikanarts.org//NONSGML kigkonsult.se iCalcreator 2.30.10/
 /
CALSCALE:GREGORIAN
METHOD:PUBLISH
UID:b631ee64-0652-4748-8fa3-602eea7c5a98
X-WR-CALDESC:BOOMbal Dance Hall in March!!!
X-WR-RELCALID:a8c68aaf58c668aef61b980cea3872bd
X-WR-TIMEZONE:America/Anchorage
BEGIN:VTIMEZONE
TZID:America/Anchorage
BEGIN:STANDARD
TZNAME:AKST
DTSTART:20241103T020000
TZOFFSETFROM:-0800
TZOFFSETTO:-0900
RDATE:20251102T020000
END:STANDARD
BEGIN:DAYLIGHT
TZNAME:AKDT
DTSTART:20250309T020000
TZOFFSETFROM:-0900
TZOFFSETTO:-0800
RDATE:20260308T020000
END:DAYLIGHT
END:VTIMEZONE
BEGIN:VEVENT
UID:58463d74-2ada-4f6d-88df-fe26314ce64c
DTSTAMP:20260424T143651Z
DESCRIPTION:BOOMbal Dance Hall in March!!!
DTSTART;TZID=America/Anchorage:20250324T175000
DTEND;TZID=America/Anchorage:20250324T193000
LOCATION:Main Street Gallery
SUMMARY:BOOMbal Dance Hall
END:VEVENT
END:VCALENDAR
