BEGIN:VCALENDAR
VERSION:2.0
PRODID:-//www.ketchikanarts.org//NONSGML kigkonsult.se iCalcreator 2.30.10/
 /
CALSCALE:GREGORIAN
METHOD:PUBLISH
UID:da492c0f-3a5b-46d0-90bc-9985f0938f2c
X-WR-CALDESC:*This performance was cancelled because Kayhi could not be ope
 ned on account of the recent rock slide blocking Tongass Avenue. \n\nWidel
 y considered a masterpiece\, this timeless classic challenges American ide
 as of power\, intolerance\, and justice in this partially-fictionalized dr
 amatization of the Salem Witch Trials.
X-WR-RELCALID:36b7b6260e518d1e18cd41db1e97b1e8
X-WR-TIMEZONE:America/Anchorage
BEGIN:VTIMEZONE
TZID:America/Anchorage
BEGIN:STANDARD
TZNAME:AKST
DTSTART:20241103T020000
TZOFFSETFROM:-0800
TZOFFSETTO:-0900
RDATE:20251102T020000
END:STANDARD
BEGIN:DAYLIGHT
TZNAME:AKDT
DTSTART:20250309T020000
TZOFFSETFROM:-0900
TZOFFSETTO:-0800
RDATE:20260308T020000
END:DAYLIGHT
END:VTIMEZONE
BEGIN:VEVENT
UID:4137e735-0983-410e-99d9-a9530468eda7
DTSTAMP:20260424T143730Z
DESCRIPTION:*This performance was cancelled because Kayhi could not be open
 ed on account of the recent rock slide blocking Tongass Avenue. \n\nWidely
  considered a masterpiece\, this timeless classic challenges American idea
 s of power\, intolerance\, and justice in this partially-fictionalized dra
 matization of the Salem Witch Trials.
DTSTART;TZID=America/Anchorage:20250323T143000
DTEND;TZID=America/Anchorage:20250323T163000
LOCATION:Kayhi Auditorium
SUMMARY:'The Crucible' - First City Players - CANCELLED
END:VEVENT
END:VCALENDAR
