BEGIN:VCALENDAR
VERSION:2.0
PRODID:-//www.ketchikanarts.org//NONSGML kigkonsult.se iCalcreator 2.30.10/
 /
CALSCALE:GREGORIAN
METHOD:PUBLISH
UID:f145f63c-8ba5-409e-905d-6130ddd52142
X-WR-CALDESC:Classes for grades 1- 12!! Scholarships are available!!!
X-WR-RELCALID:86dab67aa597a564e9e1f15da6110e6d
X-WR-TIMEZONE:America/Anchorage
BEGIN:VTIMEZONE
TZID:America/Anchorage
BEGIN:STANDARD
TZNAME:AKST
DTSTART:20241103T020000
TZOFFSETFROM:-0800
TZOFFSETTO:-0900
RDATE:20251102T020000
END:STANDARD
BEGIN:DAYLIGHT
TZNAME:AKDT
DTSTART:20250309T020000
TZOFFSETFROM:-0900
TZOFFSETTO:-0800
RDATE:20260308T020000
END:DAYLIGHT
END:VTIMEZONE
BEGIN:VEVENT
UID:fa848b79-af3a-4f09-a37a-476435425861
DTSTAMP:20260424T143007Z
DESCRIPTION:Classes for grades 1- 12!! Scholarships are available!!!
DTSTART;TZID=America/Anchorage:20250322T120000
DTEND;TZID=America/Anchorage:20250322T153000
LOCATION:First City Players
SUMMARY:Starpath Theatre Classes - First City Players
END:VEVENT
END:VCALENDAR
