BEGIN:VCALENDAR
VERSION:2.0
PRODID:-//www.ketchikanarts.org//NONSGML kigkonsult.se iCalcreator 2.30.10/
 /
CALSCALE:GREGORIAN
METHOD:PUBLISH
UID:9d6cc98f-4c49-459b-a0e8-e2dbb3f2b49d
X-WR-CALDESC:Learn to make your own bunny art projects. Join local artist L
 ori Skaggs\, owner of Wicked Awesome Craftinators\, for a fun class that i
 s open to the public. No experience necessary. Class is limited to 10 stud
 ents. Cost is $25\, including all supplies. To sign up call 907-617-3251\,
  space is limited so call now. If the class does not fill by Saturday\, wa
 lk-ins are welcome.
X-WR-RELCALID:b0283649077196921937f1355d522420
X-WR-TIMEZONE:America/Anchorage
BEGIN:VTIMEZONE
TZID:America/Anchorage
BEGIN:STANDARD
TZNAME:AKST
DTSTART:20241103T020000
TZOFFSETFROM:-0800
TZOFFSETTO:-0900
RDATE:20251102T020000
END:STANDARD
BEGIN:DAYLIGHT
TZNAME:AKDT
DTSTART:20250309T020000
TZOFFSETFROM:-0900
TZOFFSETTO:-0800
RDATE:20260308T020000
END:DAYLIGHT
END:VTIMEZONE
BEGIN:VEVENT
UID:8bd1b9d0-f817-45bc-b0c4-773e06753269
DTSTAMP:20260424T143807Z
DESCRIPTION:Learn to make your own bunny art projects. Join local artist Lo
 ri Skaggs\, owner of Wicked Awesome Craftinators\, for a fun class that is
  open to the public. No experience necessary. Class is limited to 10 stude
 nts. Cost is $25\, including all supplies. To sign up call 907-617-3251\, 
 space is limited so call now. If the class does not fill by Saturday\, wal
 k-ins are welcome.
DTSTART;TZID=America/Anchorage:20250322T143000
DTEND;TZID=America/Anchorage:20250322T163000
LOCATION:Mission Street Local Arts Market - 410 Mission Street
SUMMARY:Create a bunny! - Mission Street Local Arts Market
END:VEVENT
END:VCALENDAR
