BEGIN:VCALENDAR
VERSION:2.0
PRODID:-//www.ketchikanarts.org//NONSGML kigkonsult.se iCalcreator 2.30.10/
 /
CALSCALE:GREGORIAN
METHOD:PUBLISH
UID:905a79e9-4101-49e8-9c9e-cae4629684f9
X-WR-CALDESC:Bring your ukulele and have some fun playing with the group.\n
 Meets on Thursdays at 3:00pm at the Bayside Hotel!
X-WR-RELCALID:0d09ce41f947bf598275f92513a64502
X-WR-TIMEZONE:America/Anchorage
BEGIN:VTIMEZONE
TZID:America/Anchorage
BEGIN:STANDARD
TZNAME:AKST
DTSTART:20241103T020000
TZOFFSETFROM:-0800
TZOFFSETTO:-0900
RDATE:20251102T020000
END:STANDARD
BEGIN:DAYLIGHT
TZNAME:AKDT
DTSTART:20250309T020000
TZOFFSETFROM:-0900
TZOFFSETTO:-0800
RDATE:20260308T020000
END:DAYLIGHT
END:VTIMEZONE
BEGIN:VEVENT
UID:aea3a6c8-30be-4cd8-a4fc-e2af5836e56c
DTSTAMP:20260424T142852Z
DESCRIPTION:Bring your ukulele and have some fun playing with the group.\nM
 eets on Thursdays at 3:00pm at the Bayside Hotel!
DTSTART;TZID=America/Anchorage:20250320T150000
DTEND;TZID=America/Anchorage:20250320T170000
LOCATION:Bayside Hotel Lobby
SUMMARY:The Ukelele Group
END:VEVENT
END:VCALENDAR
