BEGIN:VCALENDAR
VERSION:2.0
PRODID:-//www.ketchikanarts.org//NONSGML kigkonsult.se iCalcreator 2.30.10/
 /
CALSCALE:GREGORIAN
METHOD:PUBLISH
UID:fe919922-a748-42a9-a0a8-b69151fdeb6b
X-WR-CALDESC:BOOMbal Dance Hall in March!!!
X-WR-RELCALID:8ae1e7ba86303910543319c2cd69f395
X-WR-TIMEZONE:America/Anchorage
BEGIN:VTIMEZONE
TZID:America/Anchorage
BEGIN:STANDARD
TZNAME:AKST
DTSTART:20241103T020000
TZOFFSETFROM:-0800
TZOFFSETTO:-0900
RDATE:20251102T020000
END:STANDARD
BEGIN:DAYLIGHT
TZNAME:AKDT
DTSTART:20250309T020000
TZOFFSETFROM:-0900
TZOFFSETTO:-0800
RDATE:20260308T020000
END:DAYLIGHT
END:VTIMEZONE
BEGIN:VEVENT
UID:fdc4b82f-e86f-457b-a42f-09dce9fa5a06
DTSTAMP:20260424T143650Z
DESCRIPTION:BOOMbal Dance Hall in March!!!
DTSTART;TZID=America/Anchorage:20250317T175000
DTEND;TZID=America/Anchorage:20250317T193000
LOCATION:Main Street Gallery
SUMMARY:BOOMbal Dance Hall
END:VEVENT
END:VCALENDAR
