BEGIN:VCALENDAR
VERSION:2.0
PRODID:-//www.ketchikanarts.org//NONSGML kigkonsult.se iCalcreator 2.30.10/
 /
CALSCALE:GREGORIAN
METHOD:PUBLISH
UID:ec805023-5231-4a7f-87ed-d0fe72e5c141
X-WR-CALDESC:
X-WR-RELCALID:0426ee0c0b7e2e4995026082f58d273e
X-WR-TIMEZONE:America/Anchorage
BEGIN:VTIMEZONE
TZID:America/Anchorage
BEGIN:STANDARD
TZNAME:AKST
DTSTART:20241103T020000
TZOFFSETFROM:-0800
TZOFFSETTO:-0900
RDATE:20251102T020000
END:STANDARD
BEGIN:DAYLIGHT
TZNAME:AKDT
DTSTART:20250309T020000
TZOFFSETFROM:-0900
TZOFFSETTO:-0800
RDATE:20260308T020000
END:DAYLIGHT
END:VTIMEZONE
BEGIN:VEVENT
UID:ab628f24-ff30-4013-8a12-dc28e6273e69
DTSTAMP:20260424T142643Z
DESCRIPTION:
DTSTART;TZID=America/Anchorage:20250316T140000
DTEND;TZID=America/Anchorage:20250316T153000
LOCATION:Berth 4 to the Alaska Fish House
SUMMARY:St. Patrick Day Parade!!!
END:VEVENT
END:VCALENDAR
