BEGIN:VCALENDAR
VERSION:2.0
PRODID:-//www.ketchikanarts.org//NONSGML kigkonsult.se iCalcreator 2.30.10/
 /
CALSCALE:GREGORIAN
METHOD:PUBLISH
UID:eedfb9b4-33ca-40ab-a7b0-4ebecd805f2c
X-WR-CALDESC:
X-WR-RELCALID:53ca80d37c2e6d97f686912af7c6bb88
X-WR-TIMEZONE:America/Anchorage
BEGIN:VTIMEZONE
TZID:America/Anchorage
BEGIN:STANDARD
TZNAME:AKST
DTSTART:20241103T020000
TZOFFSETFROM:-0800
TZOFFSETTO:-0900
RDATE:20251102T020000
END:STANDARD
BEGIN:DAYLIGHT
TZNAME:AKDT
DTSTART:20250309T020000
TZOFFSETFROM:-0900
TZOFFSETTO:-0800
RDATE:20260308T020000
END:DAYLIGHT
END:VTIMEZONE
BEGIN:VEVENT
UID:83d3898f-139e-40b4-866c-c47b2fde09f1
DTSTAMP:20260424T142656Z
DESCRIPTION:
DTSTART;TZID=America/Anchorage:20250314T100000
DTEND;TZID=America/Anchorage:20250314T170000
LOCATION:
SUMMARY:Nominate a Distinguished Artist!
END:VEVENT
END:VCALENDAR
