BEGIN:VCALENDAR
VERSION:2.0
PRODID:-//www.ketchikanarts.org//NONSGML kigkonsult.se iCalcreator 2.30.10/
 /
CALSCALE:GREGORIAN
METHOD:PUBLISH
UID:5a5bf1ff-d7e8-499a-a48e-5264f3bd1e6d
X-WR-CALDESC:The Ketchikan Chamber Orchestra rehearses for the Spring 2025 
 performance!!!!
X-WR-RELCALID:9d5515c61da98dd81e7cc44663cfaffa
X-WR-TIMEZONE:America/Anchorage
BEGIN:VTIMEZONE
TZID:America/Anchorage
BEGIN:STANDARD
TZNAME:AKST
DTSTART:20241103T020000
TZOFFSETFROM:-0800
TZOFFSETTO:-0900
RDATE:20251102T020000
END:STANDARD
BEGIN:DAYLIGHT
TZNAME:AKDT
DTSTART:20250309T020000
TZOFFSETFROM:-0900
TZOFFSETTO:-0800
RDATE:20260308T020000
END:DAYLIGHT
END:VTIMEZONE
BEGIN:VEVENT
UID:7911fecd-e9be-4258-a5fc-1cc5eb7415ad
DTSTAMP:20260424T144200Z
DESCRIPTION:The Ketchikan Chamber Orchestra rehearses for the Spring 2025 p
 erformance!!!!
DTSTART;TZID=America/Anchorage:20250312T180000
DTEND;TZID=America/Anchorage:20250312T200000
LOCATION:First Lutheran Church
SUMMARY:Ketchikan Chamber Orchesta Rehearsal
END:VEVENT
END:VCALENDAR
