BEGIN:VCALENDAR
VERSION:2.0
PRODID:-//www.ketchikanarts.org//NONSGML kigkonsult.se iCalcreator 2.30.10/
 /
CALSCALE:GREGORIAN
METHOD:PUBLISH
UID:9f6b3d43-32d1-478b-9113-65151a6d7378
X-WR-CALDESC:
X-WR-RELCALID:2e095f51d6d3e89caed75a25c584a11a
X-WR-TIMEZONE:America/Anchorage
BEGIN:VTIMEZONE
TZID:America/Anchorage
BEGIN:STANDARD
TZNAME:AKST
DTSTART:20241103T020000
TZOFFSETFROM:-0800
TZOFFSETTO:-0900
RDATE:20251102T020000
END:STANDARD
BEGIN:DAYLIGHT
TZNAME:AKDT
DTSTART:20250309T020000
TZOFFSETFROM:-0900
TZOFFSETTO:-0800
RDATE:20260308T020000
END:DAYLIGHT
END:VTIMEZONE
BEGIN:VEVENT
UID:3db71e11-8f18-4998-bfdf-35dc4f2fd38f
DTSTAMP:20260424T142530Z
DESCRIPTION:
DTSTART;TZID=America/Anchorage:20250312T130000
DTEND;TZID=America/Anchorage:20250312T170000
LOCATION:Totem Heritage Center
SUMMARY:Native Arts Studies Program - Formline Design Spring Break Class!!!
END:VEVENT
END:VCALENDAR
