BEGIN:VCALENDAR
VERSION:2.0
PRODID:-//www.ketchikanarts.org//NONSGML kigkonsult.se iCalcreator 2.30.10/
 /
CALSCALE:GREGORIAN
METHOD:PUBLISH
UID:c945ec59-4994-4028-b9e9-102ec28db87c
X-WR-CALDESC:
X-WR-RELCALID:6f11e887254dd649ac0c96878092398d
X-WR-TIMEZONE:America/Anchorage
BEGIN:VTIMEZONE
TZID:America/Anchorage
BEGIN:STANDARD
TZNAME:AKST
DTSTART:20241103T020000
TZOFFSETFROM:-0800
TZOFFSETTO:-0900
RDATE:20251102T020000
END:STANDARD
BEGIN:DAYLIGHT
TZNAME:AKDT
DTSTART:20250309T020000
TZOFFSETFROM:-0900
TZOFFSETTO:-0800
RDATE:20260308T020000
END:DAYLIGHT
END:VTIMEZONE
BEGIN:VEVENT
UID:9f735155-8890-4301-8d56-11cc88299a2b
DTSTAMP:20260424T142657Z
DESCRIPTION:
DTSTART;TZID=America/Anchorage:20250312T080000
DTEND;TZID=America/Anchorage:20250312T120000
LOCATION:Totem Heritage Center
SUMMARY:Native Arts Studies Program - Cedar Bark Weaving Spring Break Class
 !!!
END:VEVENT
END:VCALENDAR
