BEGIN:VCALENDAR
VERSION:2.0
PRODID:-//www.ketchikanarts.org//NONSGML kigkonsult.se iCalcreator 2.30.10/
 /
CALSCALE:GREGORIAN
METHOD:PUBLISH
UID:09cafcd1-c8d1-43a1-9c46-8918b51db348
X-WR-CALDESC:
X-WR-RELCALID:3258d8f8ce89c23d2b439bf5f2ee77de
X-WR-TIMEZONE:America/Anchorage
BEGIN:VTIMEZONE
TZID:America/Anchorage
BEGIN:STANDARD
TZNAME:AKST
DTSTART:20241103T020000
TZOFFSETFROM:-0800
TZOFFSETTO:-0900
RDATE:20251102T020000
END:STANDARD
BEGIN:DAYLIGHT
TZNAME:AKDT
DTSTART:20250309T020000
TZOFFSETFROM:-0900
TZOFFSETTO:-0800
RDATE:20260308T020000
END:DAYLIGHT
END:VTIMEZONE
BEGIN:VEVENT
UID:8f3727fa-b333-4f29-8f11-b2b8702b9e09
DTSTAMP:20260424T142833Z
DESCRIPTION:
DTSTART;TZID=America/Anchorage:20250311T190000
DTEND;TZID=America/Anchorage:20250311T210000
LOCATION:Creek Street Cabaret
SUMMARY:Story SLAM!
END:VEVENT
END:VCALENDAR
