BEGIN:VCALENDAR
VERSION:2.0
PRODID:-//www.ketchikanarts.org//NONSGML kigkonsult.se iCalcreator 2.30.10/
 /
CALSCALE:GREGORIAN
METHOD:PUBLISH
UID:5b3a94e8-5fa1-41fb-9b68-02ae977f878e
X-WR-CALDESC:
X-WR-RELCALID:dc936a88759aad950e1d727607e505a1
X-WR-TIMEZONE:America/Anchorage
BEGIN:VTIMEZONE
TZID:America/Anchorage
BEGIN:STANDARD
TZNAME:AKST
DTSTART:20241103T020000
TZOFFSETFROM:-0800
TZOFFSETTO:-0900
RDATE:20251102T020000
END:STANDARD
BEGIN:DAYLIGHT
TZNAME:AKDT
DTSTART:20250309T020000
TZOFFSETFROM:-0900
TZOFFSETTO:-0800
RDATE:20260308T020000
END:DAYLIGHT
END:VTIMEZONE
BEGIN:VEVENT
UID:49c65573-9d63-4648-b0c0-8f39840d61dc
DTSTAMP:20260424T142531Z
DESCRIPTION:
DTSTART;TZID=America/Anchorage:20250311T130000
DTEND;TZID=America/Anchorage:20250311T170000
LOCATION:Totem Heritage Center
SUMMARY:Native Arts Studies Program - Formline Design Spring Break Class!!!
END:VEVENT
END:VCALENDAR
