BEGIN:VCALENDAR
VERSION:2.0
PRODID:-//www.ketchikanarts.org//NONSGML kigkonsult.se iCalcreator 2.30.10/
 /
CALSCALE:GREGORIAN
METHOD:PUBLISH
UID:9ffb583f-9289-41c0-8482-8a9284fe1634
X-WR-CALDESC:
X-WR-RELCALID:9a5b41edb776e689681d85c1fe084097
X-WR-TIMEZONE:America/Anchorage
BEGIN:VTIMEZONE
TZID:America/Anchorage
BEGIN:STANDARD
TZNAME:AKST
DTSTART:20241103T020000
TZOFFSETFROM:-0800
TZOFFSETTO:-0900
RDATE:20251102T020000
END:STANDARD
BEGIN:DAYLIGHT
TZNAME:AKDT
DTSTART:20240310T020000
TZOFFSETFROM:-0900
TZOFFSETTO:-0800
RDATE:20250309T020000
RDATE:20260308T020000
END:DAYLIGHT
END:VTIMEZONE
BEGIN:VEVENT
UID:67b27642-e179-44fb-93d7-b31e0fb1d8d8
DTSTAMP:20260424T142643Z
DESCRIPTION:
DTSTART;TZID=America/Anchorage:20250310T130000
DTEND;TZID=America/Anchorage:20250310T170000
LOCATION:Totem Heritage Center
SUMMARY:Native Arts Studies Program - Formline Design Spring Break Class!!!
END:VEVENT
END:VCALENDAR
