BEGIN:VCALENDAR
VERSION:2.0
PRODID:-//www.ketchikanarts.org//NONSGML kigkonsult.se iCalcreator 2.30.10/
 /
CALSCALE:GREGORIAN
METHOD:PUBLISH
UID:a0067832-099e-47a6-87b1-0a1b4fd13430
X-WR-CALDESC:Join local artist Julie Annis\, owner of Alaska Timber Essenti
 al Oils\, for a fun class that is open to the public. No experience necess
 ary. Class is limited to 10 students. Cost is $30\, including all supplies
 . To sign up call 907-617-3251\, space is limited so call now. If the clas
 s does not fill by Sunday\, walk-ins are welcome.
X-WR-RELCALID:a53f37327a97f07ca0184c2bb82bb1b8
X-WR-TIMEZONE:America/Anchorage
BEGIN:VTIMEZONE
TZID:America/Anchorage
BEGIN:STANDARD
TZNAME:AKST
DTSTART:20241103T020000
TZOFFSETFROM:-0800
TZOFFSETTO:-0900
RDATE:20251102T020000
END:STANDARD
BEGIN:DAYLIGHT
TZNAME:AKDT
DTSTART:20240310T020000
TZOFFSETFROM:-0900
TZOFFSETTO:-0800
RDATE:20250309T020000
RDATE:20260308T020000
END:DAYLIGHT
END:VTIMEZONE
BEGIN:VEVENT
UID:efdb81c3-e08c-4e85-9247-275c3a54d32f
DTSTAMP:20260424T144108Z
DESCRIPTION:Join local artist Julie Annis\, owner of Alaska Timber Essentia
 l Oils\, for a fun class that is open to the public. No experience necessa
 ry. Class is limited to 10 students. Cost is $30\, including all supplies.
  To sign up call 907-617-3251\, space is limited so call now. If the class
  does not fill by Sunday\, walk-ins are welcome.
DTSTART;TZID=America/Anchorage:20250309T143000
DTEND;TZID=America/Anchorage:20250309T173000
LOCATION:Mission Street Local Arts Market - 410 Mission Street
SUMMARY:Mission Street Local Arts Market - Driftwood Art class
END:VEVENT
END:VCALENDAR
