BEGIN:VCALENDAR
VERSION:2.0
PRODID:-//www.ketchikanarts.org//NONSGML kigkonsult.se iCalcreator 2.30.10/
 /
CALSCALE:GREGORIAN
METHOD:PUBLISH
UID:78fc925f-cc2b-4e70-8ae8-3b61d83f68b0
X-WR-CALDESC:Classes for grades 1- 12!! Scholarships are available!!!
X-WR-RELCALID:1f76a7f24b55e73b4ab9b358da8716af
X-WR-TIMEZONE:America/Anchorage
BEGIN:VTIMEZONE
TZID:America/Anchorage
BEGIN:STANDARD
TZNAME:AKST
DTSTART:20241103T020000
TZOFFSETFROM:-0800
TZOFFSETTO:-0900
RDATE:20251102T020000
END:STANDARD
BEGIN:DAYLIGHT
TZNAME:AKDT
DTSTART:20240310T020000
TZOFFSETFROM:-0900
TZOFFSETTO:-0800
RDATE:20250309T020000
RDATE:20260308T020000
END:DAYLIGHT
END:VTIMEZONE
BEGIN:VEVENT
UID:def3a47b-7918-4749-8a47-e3f260c7728a
DTSTAMP:20260424T142953Z
DESCRIPTION:Classes for grades 1- 12!! Scholarships are available!!!
DTSTART;TZID=America/Anchorage:20250308T120000
DTEND;TZID=America/Anchorage:20250308T153000
LOCATION:First City Players
SUMMARY:Starpath Theatre Classes - First City Players
END:VEVENT
END:VCALENDAR
