BEGIN:VCALENDAR
VERSION:2.0
PRODID:-//www.ketchikanarts.org//NONSGML kigkonsult.se iCalcreator 2.30.10/
 /
CALSCALE:GREGORIAN
METHOD:PUBLISH
UID:ee17970e-c095-4ecc-8a67-11351acedac7
X-WR-CALDESC:Bring your ukulele and have some fun playing with the group.\n
 Meets on Thursdays at 3:00pm at the Bayside Hotel!
X-WR-RELCALID:056f6b5a9df903e0fa22d78bd2c42f17
X-WR-TIMEZONE:America/Anchorage
BEGIN:VTIMEZONE
TZID:America/Anchorage
BEGIN:STANDARD
TZNAME:AKST
DTSTART:20241103T020000
TZOFFSETFROM:-0800
TZOFFSETTO:-0900
RDATE:20251102T020000
END:STANDARD
BEGIN:DAYLIGHT
TZNAME:AKDT
DTSTART:20240310T020000
TZOFFSETFROM:-0900
TZOFFSETTO:-0800
RDATE:20250309T020000
RDATE:20260308T020000
END:DAYLIGHT
END:VTIMEZONE
BEGIN:VEVENT
UID:b398882b-c63d-459e-b05b-318f83a54b1c
DTSTAMP:20260424T142836Z
DESCRIPTION:Bring your ukulele and have some fun playing with the group.\nM
 eets on Thursdays at 3:00pm at the Bayside Hotel!
DTSTART;TZID=America/Anchorage:20250306T150000
DTEND;TZID=America/Anchorage:20250306T170000
LOCATION:Bayside Hotel Lobby
SUMMARY:The Ukelele Group
END:VEVENT
END:VCALENDAR
