BEGIN:VCALENDAR
VERSION:2.0
PRODID:-//www.ketchikanarts.org//NONSGML kigkonsult.se iCalcreator 2.30.10/
 /
CALSCALE:GREGORIAN
METHOD:PUBLISH
UID:b70377af-9ad1-4018-ba3c-9f4384356cf6
X-WR-CALDESC:The Ketchikan Chamber Orchestra rehearses for the Spring 2025 
 performance!!!!
X-WR-RELCALID:40d613b71f3089e3e7234f6f1e03e3a8
X-WR-TIMEZONE:America/Anchorage
BEGIN:VTIMEZONE
TZID:America/Anchorage
BEGIN:STANDARD
TZNAME:AKST
DTSTART:20241103T020000
TZOFFSETFROM:-0800
TZOFFSETTO:-0900
RDATE:20251102T020000
END:STANDARD
BEGIN:DAYLIGHT
TZNAME:AKDT
DTSTART:20240310T020000
TZOFFSETFROM:-0900
TZOFFSETTO:-0800
RDATE:20250309T020000
RDATE:20260308T020000
END:DAYLIGHT
END:VTIMEZONE
BEGIN:VEVENT
UID:dd8c4a1f-a570-4658-b5ef-cf41c0d5e29f
DTSTAMP:20260424T144109Z
DESCRIPTION:The Ketchikan Chamber Orchestra rehearses for the Spring 2025 p
 erformance!!!!
DTSTART;TZID=America/Anchorage:20250305T180000
DTEND;TZID=America/Anchorage:20250305T200000
LOCATION:First Lutheran Church
SUMMARY:Ketchikan Chamber Orchesta Rehearsal
END:VEVENT
END:VCALENDAR
