BEGIN:VCALENDAR
VERSION:2.0
PRODID:-//www.ketchikanarts.org//NONSGML kigkonsult.se iCalcreator 2.30.10/
 /
CALSCALE:GREGORIAN
METHOD:PUBLISH
UID:c2c9f06b-4652-4155-9a6d-e902ca3d3c20
X-WR-CALDESC:A fabulous night will be had by all!
X-WR-RELCALID:2e44f4bbfc7db24ba5f9b6be3bcc81c5
X-WR-TIMEZONE:America/Anchorage
BEGIN:VTIMEZONE
TZID:America/Anchorage
BEGIN:STANDARD
TZNAME:AKST
DTSTART:20241103T020000
TZOFFSETFROM:-0800
TZOFFSETTO:-0900
RDATE:20251102T020000
END:STANDARD
BEGIN:DAYLIGHT
TZNAME:AKDT
DTSTART:20240310T020000
TZOFFSETFROM:-0900
TZOFFSETTO:-0800
RDATE:20250309T020000
RDATE:20260308T020000
END:DAYLIGHT
END:VTIMEZONE
BEGIN:VEVENT
UID:36540c25-bf13-49a5-9840-4f9686164c52
DTSTAMP:20260424T142705Z
DESCRIPTION:A fabulous night will be had by all!
DTSTART;TZID=America/Anchorage:20250302T170000
DTEND;TZID=America/Anchorage:20250302T200000
LOCATION:Creek Street Cabaret
SUMMARY:Open Mic!
END:VEVENT
END:VCALENDAR
