BEGIN:VCALENDAR
VERSION:2.0
PRODID:-//www.ketchikanarts.org//NONSGML kigkonsult.se iCalcreator 2.30.10/
 /
CALSCALE:GREGORIAN
METHOD:PUBLISH
UID:80474cac-0f36-466d-87aa-bc1019c7820f
X-WR-CALDESC:Classes for grades 1- 12!! Scholarships are available!!!
X-WR-RELCALID:2207a0d7c59aa3d78f75cd82167b6a0c
X-WR-TIMEZONE:America/Anchorage
BEGIN:VTIMEZONE
TZID:America/Anchorage
BEGIN:STANDARD
TZNAME:AKST
DTSTART:20241103T020000
TZOFFSETFROM:-0800
TZOFFSETTO:-0900
RDATE:20251102T020000
END:STANDARD
BEGIN:DAYLIGHT
TZNAME:AKDT
DTSTART:20240310T020000
TZOFFSETFROM:-0900
TZOFFSETTO:-0800
RDATE:20250309T020000
RDATE:20260308T020000
END:DAYLIGHT
END:VTIMEZONE
BEGIN:VEVENT
UID:9807a2f6-c0cb-4543-91f9-0cde41ce26a3
DTSTAMP:20260424T142959Z
DESCRIPTION:Classes for grades 1- 12!! Scholarships are available!!!
DTSTART;TZID=America/Anchorage:20250301T120000
DTEND;TZID=America/Anchorage:20250301T153000
LOCATION:First City Players
SUMMARY:Starpath Theatre Classes - First City Players
END:VEVENT
END:VCALENDAR
