BEGIN:VCALENDAR
VERSION:2.0
PRODID:-//www.ketchikanarts.org//NONSGML kigkonsult.se iCalcreator 2.30.10/
 /
CALSCALE:GREGORIAN
METHOD:PUBLISH
UID:5f9e3cce-5512-4c04-9339-2c7e03266044
X-WR-CALDESC:Turn the page to an evening of camaraderie\, celebration\, and
  storytelling as we gather for the KVB Annual Banquet. This year’s theme\,
  'Turning Pages – Ketchikan Tourism Story\,' pays homage to the tales we h
 ave woven together and the unwritten chapters that lie ahead.\n\nAdmission
  Per Person $65 + $4.54 fee\nGroup of 8 People $480 + $25.29 fee
X-WR-RELCALID:1e6374e3c954bc1decd5108392f61631
X-WR-TIMEZONE:America/Anchorage
BEGIN:VTIMEZONE
TZID:America/Anchorage
BEGIN:STANDARD
TZNAME:AKST
DTSTART:20241103T020000
TZOFFSETFROM:-0800
TZOFFSETTO:-0900
RDATE:20251102T020000
END:STANDARD
BEGIN:DAYLIGHT
TZNAME:AKDT
DTSTART:20240310T020000
TZOFFSETFROM:-0900
TZOFFSETTO:-0800
RDATE:20250309T020000
RDATE:20260308T020000
END:DAYLIGHT
END:VTIMEZONE
BEGIN:VEVENT
UID:02cc1277-501c-4d30-a930-8d16498ca426
DTSTAMP:20260424T160421Z
DESCRIPTION:Turn the page to an evening of camaraderie\, celebration\, and 
 storytelling as we gather for the KVB Annual Banquet. This year’s theme\, 
 'Turning Pages – Ketchikan Tourism Story\,' pays homage to the tales we ha
 ve woven together and the unwritten chapters that lie ahead.\n\nAdmission 
 Per Person $65 + $4.54 fee\nGroup of 8 People $480 + $25.29 fee
DTSTART;TZID=America/Anchorage:20250228T180000
DTEND;TZID=America/Anchorage:20250228T210000
LOCATION:Ted Ferry Civic Center
SUMMARY:KVB Banquet - 'Turning the Pages - Ketchikan Tourism Story'
END:VEVENT
END:VCALENDAR
