BEGIN:VCALENDAR
VERSION:2.0
PRODID:-//www.ketchikanarts.org//NONSGML kigkonsult.se iCalcreator 2.30.10/
 /
CALSCALE:GREGORIAN
METHOD:PUBLISH
UID:3f4a6954-5702-4980-ba8e-7a49d836bafc
X-WR-CALDESC:A fabulous night will be had by all!
X-WR-RELCALID:c408e4fdbb46008811f9062badb20293
X-WR-TIMEZONE:America/Anchorage
BEGIN:VTIMEZONE
TZID:America/Anchorage
BEGIN:STANDARD
TZNAME:AKST
DTSTART:20241103T020000
TZOFFSETFROM:-0800
TZOFFSETTO:-0900
RDATE:20251102T020000
END:STANDARD
BEGIN:DAYLIGHT
TZNAME:AKDT
DTSTART:20240310T020000
TZOFFSETFROM:-0900
TZOFFSETTO:-0800
RDATE:20250309T020000
RDATE:20260308T020000
END:DAYLIGHT
END:VTIMEZONE
BEGIN:VEVENT
UID:42c2340a-5c7b-44b4-85ac-ece12f137de0
DTSTAMP:20260424T155114Z
DESCRIPTION:A fabulous night will be had by all!
DTSTART;TZID=America/Anchorage:20250223T170000
DTEND;TZID=America/Anchorage:20250223T200000
LOCATION:Creek Street Cabaret
SUMMARY:Open Mic!
END:VEVENT
END:VCALENDAR
