BEGIN:VCALENDAR
VERSION:2.0
PRODID:-//www.ketchikanarts.org//NONSGML kigkonsult.se iCalcreator 2.30.10/
 /
CALSCALE:GREGORIAN
METHOD:PUBLISH
UID:d6b60e71-fcd4-41d6-85b1-3da13995f47b
X-WR-CALDESC:
X-WR-RELCALID:520aa9510e4e58210e7b06801576f389
X-WR-TIMEZONE:America/Anchorage
BEGIN:VTIMEZONE
TZID:America/Anchorage
BEGIN:STANDARD
TZNAME:AKST
DTSTART:20241103T020000
TZOFFSETFROM:-0800
TZOFFSETTO:-0900
RDATE:20251102T020000
END:STANDARD
BEGIN:DAYLIGHT
TZNAME:AKDT
DTSTART:20240310T020000
TZOFFSETFROM:-0900
TZOFFSETTO:-0800
RDATE:20250309T020000
RDATE:20260308T020000
END:DAYLIGHT
END:VTIMEZONE
BEGIN:VEVENT
UID:6c4c1776-ba2a-40b7-8881-e90a457b9f96
DTSTAMP:20260424T155603Z
DESCRIPTION:
DTSTART;TZID=America/Anchorage:20250216T153000
DTEND;TZID=America/Anchorage:20250216T170000
LOCATION:Kayhi Commons
SUMMARY:Elizabeth Peratrovich Day @ the Kayhi Commons
END:VEVENT
END:VCALENDAR
