BEGIN:VCALENDAR
VERSION:2.0
PRODID:-//www.ketchikanarts.org//NONSGML kigkonsult.se iCalcreator 2.30.10/
 /
CALSCALE:GREGORIAN
METHOD:PUBLISH
UID:6c6ceb53-450d-4413-9bff-9390fd159f1b
X-WR-CALDESC:\n\nThe Monthly Grind is a Fiscally Sponsored program of the K
 etchikan Area Arts and Humanities Council.
X-WR-RELCALID:109604dfe3b15bbf027cafe174dab0f9
X-WR-TIMEZONE:America/Anchorage
BEGIN:VTIMEZONE
TZID:America/Anchorage
BEGIN:STANDARD
TZNAME:AKST
DTSTART:20241103T020000
TZOFFSETFROM:-0800
TZOFFSETTO:-0900
RDATE:20251102T020000
END:STANDARD
BEGIN:DAYLIGHT
TZNAME:AKDT
DTSTART:20240310T020000
TZOFFSETFROM:-0900
TZOFFSETTO:-0800
RDATE:20250309T020000
RDATE:20260308T020000
END:DAYLIGHT
END:VTIMEZONE
BEGIN:VEVENT
UID:b464dd14-190a-4854-a6b7-d6d9658ad053
DTSTAMP:20260424T160523Z
DESCRIPTION:\n\nThe Monthly Grind is a Fiscally Sponsored program of the Ke
 tchikan Area Arts and Humanities Council.
DTSTART;TZID=America/Anchorage:20250215T190000
DTEND;TZID=America/Anchorage:20250215T210000
LOCATION:Saxman Tribal House
SUMMARY:Monthly Grind!!!!
END:VEVENT
END:VCALENDAR
