BEGIN:VCALENDAR
VERSION:2.0
PRODID:-//www.ketchikanarts.org//NONSGML kigkonsult.se iCalcreator 2.30.10/
 /
CALSCALE:GREGORIAN
METHOD:PUBLISH
UID:e3adccfa-7a28-4a9d-b547-77d46dadc2be
X-WR-CALDESC:Nothing says 'You Are My Valentine' like a good old fashion Do
 -Si-Do!!!!
X-WR-RELCALID:524e1095d05b2130b254f04dd1899a95
X-WR-TIMEZONE:America/Anchorage
BEGIN:VTIMEZONE
TZID:America/Anchorage
BEGIN:STANDARD
TZNAME:AKST
DTSTART:20241103T020000
TZOFFSETFROM:-0800
TZOFFSETTO:-0900
RDATE:20251102T020000
END:STANDARD
BEGIN:DAYLIGHT
TZNAME:AKDT
DTSTART:20240310T020000
TZOFFSETFROM:-0900
TZOFFSETTO:-0800
RDATE:20250309T020000
RDATE:20260308T020000
END:DAYLIGHT
END:VTIMEZONE
BEGIN:VEVENT
UID:51d7b3ff-e438-4d37-9e2a-e11471ecec94
DTSTAMP:20260424T155057Z
DESCRIPTION:Nothing says 'You Are My Valentine' like a good old fashion Do-
 Si-Do!!!!
DTSTART;TZID=America/Anchorage:20250214T190000
DTEND;TZID=America/Anchorage:20250214T210000
LOCATION:Creek Street Cabaret
SUMMARY:Alaska Square Dance
END:VEVENT
END:VCALENDAR
