BEGIN:VCALENDAR
VERSION:2.0
PRODID:-//www.ketchikanarts.org//NONSGML kigkonsult.se iCalcreator 2.30.10/
 /
CALSCALE:GREGORIAN
METHOD:PUBLISH
UID:8cb81d1c-93db-4d67-b0ce-4a26beedad4f
X-WR-CALDESC:
X-WR-RELCALID:eca779173e9dce278bf29195fd3a10bd
X-WR-TIMEZONE:America/Anchorage
BEGIN:VTIMEZONE
TZID:America/Anchorage
BEGIN:STANDARD
TZNAME:AKST
DTSTART:20241103T020000
TZOFFSETFROM:-0800
TZOFFSETTO:-0900
RDATE:20251102T020000
END:STANDARD
BEGIN:DAYLIGHT
TZNAME:AKDT
DTSTART:20240310T020000
TZOFFSETFROM:-0900
TZOFFSETTO:-0800
RDATE:20250309T020000
RDATE:20260308T020000
END:DAYLIGHT
END:VTIMEZONE
BEGIN:VEVENT
UID:1282ec24-5e24-44a0-ae51-ec3658b53ed0
DTSTAMP:20260424T155657Z
DESCRIPTION:
DTSTART;TZID=America/Anchorage:20250214T190000
DTEND;TZID=America/Anchorage:20250214T213000
LOCATION:Kayhi Auditorium
SUMMARY:A Mid Summer Night's Dream - Kayhi Drama Kings
END:VEVENT
END:VCALENDAR
