BEGIN:VCALENDAR
VERSION:2.0
PRODID:-//www.ketchikanarts.org//NONSGML kigkonsult.se iCalcreator 2.30.10/
 /
CALSCALE:GREGORIAN
METHOD:PUBLISH
UID:a9efa897-48df-45c2-a9c7-e2471447ba3f
X-WR-CALDESC:See selected works from the fabulous 39th Annual Wearable Art 
 Show up close and marvel at the creativity and expertise of Ketchikan's We
 arable artists!
X-WR-RELCALID:55b8fa9b782a8fd111444600a216a5b3
X-WR-TIMEZONE:America/Anchorage
BEGIN:VTIMEZONE
TZID:America/Anchorage
BEGIN:STANDARD
TZNAME:AKST
DTSTART:20241103T020000
TZOFFSETFROM:-0800
TZOFFSETTO:-0900
RDATE:20251102T020000
END:STANDARD
BEGIN:DAYLIGHT
TZNAME:AKDT
DTSTART:20240310T020000
TZOFFSETFROM:-0900
TZOFFSETTO:-0800
RDATE:20250309T020000
RDATE:20260308T020000
END:DAYLIGHT
END:VTIMEZONE
BEGIN:VEVENT
UID:fb227bb4-241d-4413-a313-9a2e18f5a551
DTSTAMP:20260424T160141Z
DESCRIPTION:See selected works from the fabulous 39th Annual Wearable Art S
 how up close and marvel at the creativity and expertise of Ketchikan's Wea
 rable artists!
DTSTART;TZID=America/Anchorage:20250210T090000
DTEND;TZID=America/Anchorage:20250228T170000
LOCATION:Main Street Gallery\, 330 Main Street Gallery
SUMMARY:'Back to Our Roots' the 39th Annual Wearable Art Show Art Exhibit
END:VEVENT
END:VCALENDAR
