BEGIN:VCALENDAR
VERSION:2.0
PRODID:-//www.ketchikanarts.org//NONSGML kigkonsult.se iCalcreator 2.30.10/
 /
CALSCALE:GREGORIAN
METHOD:PUBLISH
UID:0bb7106c-465c-4f80-a4a6-9e8896787a79
X-WR-CALDESC:
X-WR-RELCALID:51dcca1df74b1586820d808825ad1673
X-WR-TIMEZONE:America/Anchorage
BEGIN:VTIMEZONE
TZID:America/Anchorage
BEGIN:STANDARD
TZNAME:AKST
DTSTART:20241103T020000
TZOFFSETFROM:-0800
TZOFFSETTO:-0900
RDATE:20251102T020000
END:STANDARD
BEGIN:DAYLIGHT
TZNAME:AKDT
DTSTART:20240310T020000
TZOFFSETFROM:-0900
TZOFFSETTO:-0800
RDATE:20250309T020000
RDATE:20260308T020000
END:DAYLIGHT
END:VTIMEZONE
BEGIN:VEVENT
UID:b3a079c8-0b3e-4e16-a9f4-9609661f9bd2
DTSTAMP:20260424T155803Z
DESCRIPTION:
DTSTART;TZID=America/Anchorage:20250207T020000
DTEND;TZID=America/Anchorage:20250207T020001
LOCATION:TBA
SUMMARY:Call for Quilts for 2025 'Quilting in the Rain' Deadline!!!
END:VEVENT
END:VCALENDAR
